BEGIN:VCALENDAR
VERSION:2.0
PRODID:icalendar-ruby
CALSCALE:GREGORIAN
METHOD:PUBLISH
BEGIN:VEVENT
DTSTAMP:20260421T144703Z
UID:24-420589@stpaulswilliamsville.org
DTSTART:20260516T130000Z
DTEND:20260516T180000Z
CLASS:PUBLIC
CREATED:20260421T102310
DESCRIPTION:  Smallwood Garden Club — now in its 70th year of promoting 
 an active interest in horticulture\, floral arts\, conservation and civic 
 projects — will hold a “Spring Plants &amp\; More Sale” at St. Paul
 ’s on Saturday\, May 16th from 9:00 a.m. to 2:00 p.m. \nThis year’s sa
 le will feature ever-popular “passalong” perennials and houseplants fr
 om members’ gardens and homes\, a wide selection of colorful annuals and
  sought-after herbs from local nurseries\, a trove of treasured tchotchkes
  at bargain-sale prices\, and environmentally-friendly items from C.W. Nat
 ive Botanicals. Please join us in celebrating Spring!
LAST-MODIFIED:20260421T102310
LOCATION:St. Paul's Parish Hall
SUMMARY:Smallwood Garden Club Annual Plant Sale
URL;VALUE=URI:https://www.stpaulswilliamsville.org/events/smallwood-garden-
 club-annual-plant-sale/2026-05-16
ATTACH;FILENAME=Screenshot_21-4-2026_102137_.jpeg;FMTTYPE=image/jpeg:https:
 //dq5pwpg1q8ru0.cloudfront.net/2026/04/21/14/22/39/d66d5c41-12f4-4c61-9943
 -a9f05e4e089b/Screenshot_21-4-2026_102137_.jpeg
END:VEVENT
END:VCALENDAR
